BEGIN:VCALENDAR
VERSION:2.0
PRODID:-//freiraum – Seminarhaus in Evessen - ECPv6.15.14//NONSGML v1.0//EN
CALSCALE:GREGORIAN
METHOD:PUBLISH
X-ORIGINAL-URL:https://freiraum-evessen.de
X-WR-CALDESC:Veranstaltungen für freiraum – Seminarhaus in Evessen
REFRESH-INTERVAL;VALUE=DURATION:PT1H
X-Robots-Tag:noindex
X-PUBLISHED-TTL:PT1H
BEGIN:VTIMEZONE
TZID:Europe/Berlin
BEGIN:DAYLIGHT
TZOFFSETFROM:+0100
TZOFFSETTO:+0200
TZNAME:CEST
DTSTART:20250330T010000
END:DAYLIGHT
BEGIN:STANDARD
TZOFFSETFROM:+0200
TZOFFSETTO:+0100
TZNAME:CET
DTSTART:20251026T010000
END:STANDARD
BEGIN:DAYLIGHT
TZOFFSETFROM:+0100
TZOFFSETTO:+0200
TZNAME:CEST
DTSTART:20260329T010000
END:DAYLIGHT
BEGIN:STANDARD
TZOFFSETFROM:+0200
TZOFFSETTO:+0100
TZNAME:CET
DTSTART:20261025T010000
END:STANDARD
BEGIN:DAYLIGHT
TZOFFSETFROM:+0100
TZOFFSETTO:+0200
TZNAME:CEST
DTSTART:20270328T010000
END:DAYLIGHT
BEGIN:STANDARD
TZOFFSETFROM:+0200
TZOFFSETTO:+0100
TZNAME:CET
DTSTART:20271031T010000
END:STANDARD
END:VTIMEZONE
BEGIN:VEVENT
DTSTART;TZID=Europe/Berlin:20260213T163000
DTEND;TZID=Europe/Berlin:20260213T180000
DTSTAMP:20260422T213006
CREATED:20260108T064241Z
LAST-MODIFIED:20260108T064241Z
UID:10002363-1771000200-1771005600@freiraum-evessen.de
SUMMARY:Tanz der Elemente mit Victoria
DESCRIPTION:
URL:https://freiraum-evessen.de/event/tanz-der-elemente-mit-victoria/
LOCATION:freiraum in Evessen\, Papenberg 9\, Evessen\, Niedersachsen\, 38173\, Deutschland
END:VEVENT
END:VCALENDAR