BEGIN:VCALENDAR
VERSION:2.0
PRODID:-//freiraum – Seminarhaus in Evessen - ECPv6.15.14//NONSGML v1.0//EN
CALSCALE:GREGORIAN
METHOD:PUBLISH
X-WR-CALNAME:freiraum – Seminarhaus in Evessen
X-ORIGINAL-URL:https://freiraum-evessen.de
X-WR-CALDESC:Veranstaltungen für freiraum – Seminarhaus in Evessen
REFRESH-INTERVAL;VALUE=DURATION:PT1H
X-Robots-Tag:noindex
X-PUBLISHED-TTL:PT1H
BEGIN:VTIMEZONE
TZID:Europe/Berlin
BEGIN:DAYLIGHT
TZOFFSETFROM:+0100
TZOFFSETTO:+0200
TZNAME:CEST
DTSTART:20240331T010000
END:DAYLIGHT
BEGIN:STANDARD
TZOFFSETFROM:+0200
TZOFFSETTO:+0100
TZNAME:CET
DTSTART:20241027T010000
END:STANDARD
BEGIN:DAYLIGHT
TZOFFSETFROM:+0100
TZOFFSETTO:+0200
TZNAME:CEST
DTSTART:20250330T010000
END:DAYLIGHT
BEGIN:STANDARD
TZOFFSETFROM:+0200
TZOFFSETTO:+0100
TZNAME:CET
DTSTART:20251026T010000
END:STANDARD
BEGIN:DAYLIGHT
TZOFFSETFROM:+0100
TZOFFSETTO:+0200
TZNAME:CEST
DTSTART:20260329T010000
END:DAYLIGHT
BEGIN:STANDARD
TZOFFSETFROM:+0200
TZOFFSETTO:+0100
TZNAME:CET
DTSTART:20261025T010000
END:STANDARD
END:VTIMEZONE
BEGIN:VEVENT
DTSTART;TZID=Europe/Berlin:20251229T180000
DTEND;TZID=Europe/Berlin:20251229T190000
DTSTAMP:20260422T120500
CREATED:20250519T102319Z
LAST-MODIFIED:20250627T095751Z
UID:10002178-1767031200-1767034800@freiraum-evessen.de
SUMMARY:Klangmassage und Body Scan mit Thomas Grove
DESCRIPTION:!!! Ausfall wegen Krankheit !!! \njeden letzten Montag im Monat von 18-19h. Während einer Klangmassage entsteht eine Atmosphäre von Sicherheit und Geborgenheit. Stress\, Ängste\, Sorgen\, Zweifel und überhaupt alle Gefühle\, die sich negativ auf unsere Gesundheit auswirken\, können so einfacher losgelassen werden. Wir nehmen unseren Körper und unsere Bedürfnisse wieder bewusst wahr. Die oft kreisenden Gedanken kommen leichter zur Ruhe und unsere Seele erfährt Raum zur Entfaltung. \nEine Klangmassage verfolgt Zielsetzungen wie: \n\nbewirkt wohltuende Entspannung\nerleichtert das Loslassen – körperlich wie mental\nträgt zur Harmonisierung\, Regeneration und Vitalisierung bei\nstärkt die Selbstheilungskräfte\nunterstützt und verbessert die Körperwahrnehmung\nfördert die Aktivierung ungenutzter Ressourcen\nSelbstbewusstsein\, Kreativität\, Schaffenskraft und Motivation können sich entfalten
URL:https://freiraum-evessen.de/event/klangmassage-und-body-scan-mit-thomas-grove/2025-12-29/
LOCATION:freiraum in Evessen\, Papenberg 9\, Evessen\, Niedersachsen\, 38173\, Deutschland
ATTACH;FMTTYPE=image/jpeg:https://freiraum-evessen.de/wp-content/uploads/2025/05/Thomas-Grove.jpg
END:VEVENT
END:VCALENDAR