BEGIN:VCALENDAR
VERSION:2.0
PRODID:-//freiraum – Seminarhaus in Evessen - ECPv6.15.14//NONSGML v1.0//EN
CALSCALE:GREGORIAN
METHOD:PUBLISH
X-ORIGINAL-URL:https://freiraum-evessen.de
X-WR-CALDESC:Veranstaltungen für freiraum – Seminarhaus in Evessen
REFRESH-INTERVAL;VALUE=DURATION:PT1H
X-Robots-Tag:noindex
X-PUBLISHED-TTL:PT1H
BEGIN:VTIMEZONE
TZID:Europe/Berlin
BEGIN:DAYLIGHT
TZOFFSETFROM:+0100
TZOFFSETTO:+0200
TZNAME:CEST
DTSTART:20240331T010000
END:DAYLIGHT
BEGIN:STANDARD
TZOFFSETFROM:+0200
TZOFFSETTO:+0100
TZNAME:CET
DTSTART:20241027T010000
END:STANDARD
BEGIN:DAYLIGHT
TZOFFSETFROM:+0100
TZOFFSETTO:+0200
TZNAME:CEST
DTSTART:20250330T010000
END:DAYLIGHT
BEGIN:STANDARD
TZOFFSETFROM:+0200
TZOFFSETTO:+0100
TZNAME:CET
DTSTART:20251026T010000
END:STANDARD
BEGIN:DAYLIGHT
TZOFFSETFROM:+0100
TZOFFSETTO:+0200
TZNAME:CEST
DTSTART:20260329T010000
END:DAYLIGHT
BEGIN:STANDARD
TZOFFSETFROM:+0200
TZOFFSETTO:+0100
TZNAME:CET
DTSTART:20261025T010000
END:STANDARD
BEGIN:DAYLIGHT
TZOFFSETFROM:+0100
TZOFFSETTO:+0200
TZNAME:CEST
DTSTART:20270328T010000
END:DAYLIGHT
BEGIN:STANDARD
TZOFFSETFROM:+0200
TZOFFSETTO:+0100
TZNAME:CET
DTSTART:20271031T010000
END:STANDARD
END:VTIMEZONE
BEGIN:VEVENT
DTSTART;VALUE=DATE:20260227
DTEND;VALUE=DATE:20260302
DTSTAMP:20260423T004219
CREATED:20250724T104305Z
LAST-MODIFIED:20250916T152228Z
UID:10002192-1772150400-1772409599@freiraum-evessen.de
SUMMARY:offene Gruppe syst. Familienaufstellungen mit Gesche Hanker
DESCRIPTION:weitere Informationen
URL:https://freiraum-evessen.de/event/offenen-gruppe-syst-familienaufstellungen-2/
LOCATION:freiraum in Evessen\, Papenberg 9\, Evessen\, Niedersachsen\, 38173\, Deutschland
ATTACH;FMTTYPE=image/png:https://freiraum-evessen.de/wp-content/uploads/2024/11/Gesche-rund.png
ORGANIZER;CN="Gesche Hanker":MAILTO:freiraum-evessen@web.de
END:VEVENT
BEGIN:VEVENT
DTSTART;VALUE=DATE:20260220
DTEND;VALUE=DATE:20260223
DTSTAMP:20260423T004219
CREATED:20250812T072510Z
LAST-MODIFIED:20250812T072957Z
UID:10002208-1771545600-1771804799@freiraum-evessen.de
SUMMARY:Jahresgruppe III
DESCRIPTION:weitere Informationen
URL:https://freiraum-evessen.de/event/jahresgruppe-iii-2/
LOCATION:freiraum in Evessen\, Papenberg 9\, Evessen\, Niedersachsen\, 38173\, Deutschland
ATTACH;FMTTYPE=image/png:https://freiraum-evessen.de/wp-content/uploads/2024/11/Gesche-rund.png
ORGANIZER;CN="Gesche Hanker":MAILTO:freiraum-evessen@web.de
END:VEVENT
BEGIN:VEVENT
DTSTART;VALUE=DATE:20260116
DTEND;VALUE=DATE:20260119
DTSTAMP:20260423T004219
CREATED:20250812T072421Z
LAST-MODIFIED:20250812T073023Z
UID:10002207-1768521600-1768780799@freiraum-evessen.de
SUMMARY:Jahresgruppe III
DESCRIPTION:weitere Informationen
URL:https://freiraum-evessen.de/event/jahresgruppe-iii/
LOCATION:freiraum in Evessen\, Papenberg 9\, Evessen\, Niedersachsen\, 38173\, Deutschland
ATTACH;FMTTYPE=image/png:https://freiraum-evessen.de/wp-content/uploads/2024/11/Gesche-rund.png
ORGANIZER;CN="Gesche Hanker":MAILTO:freiraum-evessen@web.de
END:VEVENT
BEGIN:VEVENT
DTSTART;VALUE=DATE:20251114
DTEND;VALUE=DATE:20251117
DTSTAMP:20260423T004219
CREATED:20250812T072338Z
LAST-MODIFIED:20250812T073047Z
UID:10002206-1763078400-1763337599@freiraum-evessen.de
SUMMARY:Start Jahresgruppe III
DESCRIPTION:weitere Informationen
URL:https://freiraum-evessen.de/event/start-jahresgruppe-iii/
LOCATION:freiraum in Evessen\, Papenberg 9\, Evessen\, Niedersachsen\, 38173\, Deutschland
ATTACH;FMTTYPE=image/png:https://freiraum-evessen.de/wp-content/uploads/2024/11/Gesche-rund.png
ORGANIZER;CN="Gesche Hanker":MAILTO:freiraum-evessen@web.de
END:VEVENT
BEGIN:VEVENT
DTSTART;VALUE=DATE:20251010
DTEND;VALUE=DATE:20251012
DTSTAMP:20260423T004219
CREATED:20250724T104223Z
LAST-MODIFIED:20250916T152237Z
UID:10002191-1760054400-1760227199@freiraum-evessen.de
SUMMARY:offene Gruppe syst. Familienaufstellungen mit Gesche Hanker
DESCRIPTION:weitere Informationen
URL:https://freiraum-evessen.de/event/offenen-gruppe-syst-familienaufstellungen/
LOCATION:freiraum in Evessen\, Papenberg 9\, Evessen\, Niedersachsen\, 38173\, Deutschland
ATTACH;FMTTYPE=image/png:https://freiraum-evessen.de/wp-content/uploads/2024/11/Gesche-rund.png
ORGANIZER;CN="Gesche Hanker":MAILTO:freiraum-evessen@web.de
END:VEVENT
BEGIN:VEVENT
DTSTART;TZID=Europe/Berlin:20250525T093000
DTEND;TZID=Europe/Berlin:20250525T150000
DTSTAMP:20260423T004219
CREATED:20250305T150651Z
LAST-MODIFIED:20250916T152251Z
UID:10002089-1748165400-1748185200@freiraum-evessen.de
SUMMARY:offene Gruppe systemische Familienaufstellungen mit Gesche Hanker
DESCRIPTION:weitere Informationen
URL:https://freiraum-evessen.de/event/offene-gruppe-systemische-familienaufstellungen-mit-gesche-4/
LOCATION:freiraum in Evessen\, Papenberg 9\, Evessen\, Niedersachsen\, 38173\, Deutschland
ATTACH;FMTTYPE=image/png:https://freiraum-evessen.de/wp-content/uploads/2024/11/Gesche-rund.png
ORGANIZER;CN="Gesche Hanker":MAILTO:freiraum-evessen@web.de
END:VEVENT
BEGIN:VEVENT
DTSTART;TZID=Europe/Berlin:20250524T093000
DTEND;TZID=Europe/Berlin:20250524T200000
DTSTAMP:20260423T004219
CREATED:20250305T150616Z
LAST-MODIFIED:20250305T150616Z
UID:10002088-1748079000-1748116800@freiraum-evessen.de
SUMMARY:offene Gruppe systemische Familienaufstellungen mit Gesche
DESCRIPTION:weitere Informationen
URL:https://freiraum-evessen.de/event/offene-gruppe-systemische-familienaufstellungen-mit-gesche-3/
LOCATION:freiraum in Evessen\, Papenberg 9\, Evessen\, Niedersachsen\, 38173\, Deutschland
ATTACH;FMTTYPE=image/png:https://freiraum-evessen.de/wp-content/uploads/2024/11/Gesche-rund.png
ORGANIZER;CN="Gesche Hanker":MAILTO:freiraum-evessen@web.de
END:VEVENT
BEGIN:VEVENT
DTSTART;TZID=Europe/Berlin:20250523T190000
DTEND;TZID=Europe/Berlin:20250523T220000
DTSTAMP:20260423T004219
CREATED:20241116T131636Z
LAST-MODIFIED:20250305T150531Z
UID:10001887-1748026800-1748037600@freiraum-evessen.de
SUMMARY:offene Gruppe systemische Familienaufstellungen mit Gesche
DESCRIPTION:weitere Informationen
URL:https://freiraum-evessen.de/event/offene-gruppe-mit-gesche-3/
LOCATION:freiraum in Evessen\, Papenberg 9\, Evessen\, Niedersachsen\, 38173\, Deutschland
ATTACH;FMTTYPE=image/png:https://freiraum-evessen.de/wp-content/uploads/2024/11/Gesche-rund.png
ORGANIZER;CN="Gesche Hanker":MAILTO:freiraum-evessen@web.de
END:VEVENT
END:VCALENDAR