BEGIN:VCALENDAR
VERSION:2.0
PRODID:-//freiraum – Seminarhaus in Evessen - ECPv6.15.14//NONSGML v1.0//EN
CALSCALE:GREGORIAN
METHOD:PUBLISH
X-WR-CALNAME:freiraum – Seminarhaus in Evessen
X-ORIGINAL-URL:https://freiraum-evessen.de
X-WR-CALDESC:Veranstaltungen für freiraum – Seminarhaus in Evessen
REFRESH-INTERVAL;VALUE=DURATION:PT1H
X-Robots-Tag:noindex
X-PUBLISHED-TTL:PT1H
BEGIN:VTIMEZONE
TZID:Europe/Berlin
BEGIN:DAYLIGHT
TZOFFSETFROM:+0100
TZOFFSETTO:+0200
TZNAME:CEST
DTSTART:20240331T010000
END:DAYLIGHT
BEGIN:STANDARD
TZOFFSETFROM:+0200
TZOFFSETTO:+0100
TZNAME:CET
DTSTART:20241027T010000
END:STANDARD
BEGIN:DAYLIGHT
TZOFFSETFROM:+0100
TZOFFSETTO:+0200
TZNAME:CEST
DTSTART:20250330T010000
END:DAYLIGHT
BEGIN:STANDARD
TZOFFSETFROM:+0200
TZOFFSETTO:+0100
TZNAME:CET
DTSTART:20251026T010000
END:STANDARD
BEGIN:DAYLIGHT
TZOFFSETFROM:+0100
TZOFFSETTO:+0200
TZNAME:CEST
DTSTART:20260329T010000
END:DAYLIGHT
BEGIN:STANDARD
TZOFFSETFROM:+0200
TZOFFSETTO:+0100
TZNAME:CET
DTSTART:20261025T010000
END:STANDARD
BEGIN:DAYLIGHT
TZOFFSETFROM:+0100
TZOFFSETTO:+0200
TZNAME:CEST
DTSTART:20270328T010000
END:DAYLIGHT
BEGIN:STANDARD
TZOFFSETFROM:+0200
TZOFFSETTO:+0100
TZNAME:CET
DTSTART:20271031T010000
END:STANDARD
END:VTIMEZONE
BEGIN:VEVENT
DTSTART;TZID=Europe/Berlin:20260315T110000
DTEND;TZID=Europe/Berlin:20260315T170000
DTSTAMP:20260422T145000
CREATED:20260108T064424Z
LAST-MODIFIED:20260114T120148Z
UID:10002365-1773572400-1773594000@freiraum-evessen.de
SUMMARY:Frauenkreis "Stärke die Göttin in dir"
DESCRIPTION:Hi\, ich heiße Christin\, ich bin 42 Jahre alt und 2 fach Mama. \nTief verbunden mit der Natur und ihren Geschöpfen habe ich mich nun ihrer Hingabe und Heilung gewidmet. Die Spiritualität habe ich mir seit meiner Kindheit erhalten. Weiterentwickelt habe ich sie unter anderem in zahlreichen Seminaren zur individuellen Persönlichkeitsarbeit\, mit der Arbeit in Frauenkreisen und meiner so gut wie absolvierten Ausbildung zur Schamanin. \n\nSchamanische Energie Medizin\nTrommelreise für die Seele Schamanische Hausreinigung\nCacao Rituale\nZeremonien\nFrauenkreise\nSchamanische Geburtsarbeit
URL:https://freiraum-evessen.de/event/frauenkreis-staerke-die-goettin-in-dir/
LOCATION:freiraum in Evessen\, Papenberg 9\, Evessen\, Niedersachsen\, 38173\, Deutschland
ATTACH;FMTTYPE=image/jpeg:https://freiraum-evessen.de/wp-content/uploads/2025/11/Christin-e1768391977984.jpg
END:VEVENT
BEGIN:VEVENT
DTSTART;TZID=Europe/Berlin:20260214T180000
DTEND;TZID=Europe/Berlin:20260214T200000
DTSTAMP:20260422T145000
CREATED:20251127T115337Z
LAST-MODIFIED:20260114T120041Z
UID:10002345-1771092000-1771099200@freiraum-evessen.de
SUMMARY:Schamanische Trommelreisen mit Christin
DESCRIPTION:Hi\, ich heiße Christin\, ich bin 42 Jahre alt und 2 fach Mama. \nTief verbunden mit der Natur und ihren Geschöpfen habe ich mich nun ihrer Hingabe und Heilung gewidmet. Die Spiritualität habe ich mir seit meiner Kindheit erhalten. Weiterentwickelt habe ich sie unter anderem in zahlreichen Seminaren zur individuellen Persönlichkeitsarbeit\, mit der Arbeit in Frauenkreisen und meiner so gut wie absolvierten Ausbildung zur Schamanin. \n\nSchamanische Energie Medizin\nTrommelreise für die Seele Schamanische Hausreinigung\nCacao Rituale\nZeremonien\nFrauenkreise\nSchamanische Geburtsarbeit
URL:https://freiraum-evessen.de/event/schamanische-trommelreisen-mit-christin-3/
LOCATION:freiraum in Evessen\, Papenberg 9\, Evessen\, Niedersachsen\, 38173\, Deutschland
ATTACH;FMTTYPE=image/jpeg:https://freiraum-evessen.de/wp-content/uploads/2025/11/Christin-e1768391977984.jpg
END:VEVENT
BEGIN:VEVENT
DTSTART;TZID=Europe/Berlin:20260124T180000
DTEND;TZID=Europe/Berlin:20260124T200000
DTSTAMP:20260422T145000
CREATED:20251127T115300Z
LAST-MODIFIED:20260114T115807Z
UID:10002344-1769277600-1769284800@freiraum-evessen.de
SUMMARY:Schamanische Trommelreisen mit Christin
DESCRIPTION:Hi\, ich heiße Christin\, ich bin 42 Jahre alt und 2 fach Mama. \nTief verbunden mit der Natur und ihren Geschöpfen habe ich mich nun ihrer Hingabe und Heilung gewidmet. Die Spiritualität habe ich mir seit meiner Kindheit erhalten. Weiterentwickelt habe ich sie unter anderem in zahlreichen Seminaren zur individuellen Persönlichkeitsarbeit\, mit der Arbeit in Frauenkreisen und meiner so gut wie absolvierten Ausbildung zur Schamanin. \n\nSchamanische Energie Medizin\nTrommelreise für die Seele Schamanische Hausreinigung\nCacao Rituale\nZeremonien\nFrauenkreise\nSchamanische Geburtsarbeit
URL:https://freiraum-evessen.de/event/schamanische-trommelreisen-mit-christin-2/
LOCATION:freiraum in Evessen\, Papenberg 9\, Evessen\, Niedersachsen\, 38173\, Deutschland
ATTACH;FMTTYPE=image/jpeg:https://freiraum-evessen.de/wp-content/uploads/2025/11/Christin-e1768391977984.jpg
END:VEVENT
BEGIN:VEVENT
DTSTART;TZID=Europe/Berlin:20251227T180000
DTEND;TZID=Europe/Berlin:20251227T200000
DTSTAMP:20260422T145000
CREATED:20251127T115222Z
LAST-MODIFIED:20251203T103349Z
UID:10002343-1766858400-1766865600@freiraum-evessen.de
SUMMARY:Schamanische Trommelreisen mit Christin
DESCRIPTION:
URL:https://freiraum-evessen.de/event/schamanische-trommelreisen-mit-christin/
LOCATION:freiraum in Evessen\, Papenberg 9\, Evessen\, Niedersachsen\, 38173\, Deutschland
END:VEVENT
BEGIN:VEVENT
DTSTART;TZID=Europe/Berlin:20251122T180000
DTEND;TZID=Europe/Berlin:20251122T200000
DTSTAMP:20260422T145000
CREATED:20251029T122855Z
LAST-MODIFIED:20251029T122855Z
UID:10002280-1763834400-1763841600@freiraum-evessen.de
SUMMARY:Schamanische Trommelreise mit Christin
DESCRIPTION:
URL:https://freiraum-evessen.de/event/schamanische-trommelreise-mit-christin-4/
LOCATION:freiraum in Evessen\, Papenberg 9\, Evessen\, Niedersachsen\, 38173\, Deutschland
END:VEVENT
BEGIN:VEVENT
DTSTART;TZID=Europe/Berlin:20250823T180000
DTEND;TZID=Europe/Berlin:20250823T200000
DTSTAMP:20260422T145000
CREATED:20250504T072544Z
LAST-MODIFIED:20250504T072544Z
UID:10002141-1755972000-1755979200@freiraum-evessen.de
SUMMARY:Schamanische Trommelreise mit Christin
DESCRIPTION:
URL:https://freiraum-evessen.de/event/schamanische-trommelreise-mit-christin-3/
LOCATION:freiraum in Evessen\, Papenberg 9\, Evessen\, Niedersachsen\, 38173\, Deutschland
END:VEVENT
BEGIN:VEVENT
DTSTART;TZID=Europe/Berlin:20250719T180000
DTEND;TZID=Europe/Berlin:20250719T200000
DTSTAMP:20260422T145000
CREATED:20250504T072513Z
LAST-MODIFIED:20250504T072513Z
UID:10002140-1752948000-1752955200@freiraum-evessen.de
SUMMARY:Schamanische Trommelreise mit Christin
DESCRIPTION:
URL:https://freiraum-evessen.de/event/schamanische-trommelreise-mit-christin-2/
LOCATION:freiraum in Evessen\, Papenberg 9\, Evessen\, Niedersachsen\, 38173\, Deutschland
END:VEVENT
BEGIN:VEVENT
DTSTART;TZID=Europe/Berlin:20250614T180000
DTEND;TZID=Europe/Berlin:20250614T200000
DTSTAMP:20260422T145000
CREATED:20250504T072428Z
LAST-MODIFIED:20250504T072428Z
UID:10002139-1749924000-1749931200@freiraum-evessen.de
SUMMARY:Schamanische Trommelreise mit Christin
DESCRIPTION:
URL:https://freiraum-evessen.de/event/schamanische-trommelreise-mit-christin/
LOCATION:freiraum in Evessen\, Papenberg 9\, Evessen\, Niedersachsen\, 38173\, Deutschland
END:VEVENT
END:VCALENDAR