BEGIN:VCALENDAR
VERSION:2.0
PRODID:-//freiraum – Seminarhaus in Evessen - ECPv6.15.14//NONSGML v1.0//EN
CALSCALE:GREGORIAN
METHOD:PUBLISH
X-WR-CALNAME:freiraum – Seminarhaus in Evessen
X-ORIGINAL-URL:https://freiraum-evessen.de
X-WR-CALDESC:Veranstaltungen für freiraum – Seminarhaus in Evessen
REFRESH-INTERVAL;VALUE=DURATION:PT1H
X-Robots-Tag:noindex
X-PUBLISHED-TTL:PT1H
BEGIN:VTIMEZONE
TZID:Europe/Berlin
BEGIN:DAYLIGHT
TZOFFSETFROM:+0100
TZOFFSETTO:+0200
TZNAME:CEST
DTSTART:20250330T010000
END:DAYLIGHT
BEGIN:STANDARD
TZOFFSETFROM:+0200
TZOFFSETTO:+0100
TZNAME:CET
DTSTART:20251026T010000
END:STANDARD
BEGIN:DAYLIGHT
TZOFFSETFROM:+0100
TZOFFSETTO:+0200
TZNAME:CEST
DTSTART:20260329T010000
END:DAYLIGHT
BEGIN:STANDARD
TZOFFSETFROM:+0200
TZOFFSETTO:+0100
TZNAME:CET
DTSTART:20261025T010000
END:STANDARD
BEGIN:DAYLIGHT
TZOFFSETFROM:+0100
TZOFFSETTO:+0200
TZNAME:CEST
DTSTART:20270328T010000
END:DAYLIGHT
BEGIN:STANDARD
TZOFFSETFROM:+0200
TZOFFSETTO:+0100
TZNAME:CET
DTSTART:20271031T010000
END:STANDARD
END:VTIMEZONE
BEGIN:VEVENT
DTSTART;VALUE=DATE:20260411
DTEND;VALUE=DATE:20260413
DTSTAMP:20260422T202539
CREATED:20260114T152230Z
LAST-MODIFIED:20260114T152230Z
UID:10002628-1775865600-1776038399@freiraum-evessen.de
SUMMARY:Weiterbildung als Trauerbegleiter:in mit Christiane Widdrat
DESCRIPTION:Termine:\n07. & 08.02.2026\n14. & 15.02.2026\n21. & 22.03.2026\n11. & 12.04.2026 \nUmfang: 80 Unterrichtseinheiten\nKosten: 1.000 Euro\nZertifizierung: DHPV & DGP (gemäß Rahmenkonzept Trauerqualifizierung)
URL:https://freiraum-evessen.de/event/weiterbildung-als-trauerbegleiterin-mit-christiane-widdrat-4/
LOCATION:freiraum in Evessen\, Papenberg 9\, Evessen\, Niedersachsen\, 38173\, Deutschland
ORGANIZER;CN="Christiane Widdrat":MAILTO:widdrat@glueckswerkstatt-am-markt.de
END:VEVENT
BEGIN:VEVENT
DTSTART;VALUE=DATE:20260321
DTEND;VALUE=DATE:20260323
DTSTAMP:20260422T202539
CREATED:20260114T152203Z
LAST-MODIFIED:20260114T152203Z
UID:10002627-1774051200-1774223999@freiraum-evessen.de
SUMMARY:Weiterbildung als Trauerbegleiter:in mit Christiane Widdrat
DESCRIPTION:Termine:\n07. & 08.02.2026\n14. & 15.02.2026\n21. & 22.03.2026\n11. & 12.04.2026 \nUmfang: 80 Unterrichtseinheiten\nKosten: 1.000 Euro\nZertifizierung: DHPV & DGP (gemäß Rahmenkonzept Trauerqualifizierung)
URL:https://freiraum-evessen.de/event/weiterbildung-als-trauerbegleiterin-mit-christiane-widdrat-3/
LOCATION:freiraum in Evessen\, Papenberg 9\, Evessen\, Niedersachsen\, 38173\, Deutschland
ORGANIZER;CN="Christiane Widdrat":MAILTO:widdrat@glueckswerkstatt-am-markt.de
END:VEVENT
BEGIN:VEVENT
DTSTART;VALUE=DATE:20260214
DTEND;VALUE=DATE:20260216
DTSTAMP:20260422T202539
CREATED:20260114T152129Z
LAST-MODIFIED:20260114T152129Z
UID:10002626-1771027200-1771199999@freiraum-evessen.de
SUMMARY:Weiterbildung als Trauerbegleiter:in mit Christiane Widdrat
DESCRIPTION:Termine:\n07. & 08.02.2026\n14. & 15.02.2026\n21. & 22.03.2026\n11. & 12.04.2026 \nUmfang: 80 Unterrichtseinheiten\nKosten: 1.000 Euro\nZertifizierung: DHPV & DGP (gemäß Rahmenkonzept Trauerqualifizierung)
URL:https://freiraum-evessen.de/event/weiterbildung-als-trauerbegleiterin-mit-christiane-widdrat-2/
LOCATION:freiraum in Evessen\, Papenberg 9\, Evessen\, Niedersachsen\, 38173\, Deutschland
ORGANIZER;CN="Christiane Widdrat":MAILTO:widdrat@glueckswerkstatt-am-markt.de
END:VEVENT
BEGIN:VEVENT
DTSTART;VALUE=DATE:20260207
DTEND;VALUE=DATE:20260209
DTSTAMP:20260422T202539
CREATED:20260114T152050Z
LAST-MODIFIED:20260114T152050Z
UID:10002625-1770422400-1770595199@freiraum-evessen.de
SUMMARY:Weiterbildung als Trauerbegleiter:in mit Christiane Widdrat
DESCRIPTION:Termine:\n07. & 08.02.2026\n14. & 15.02.2026\n21. & 22.03.2026\n11. & 12.04.2026 \nUmfang: 80 Unterrichtseinheiten\nKosten: 1.000 Euro\nZertifizierung: DHPV & DGP (gemäß Rahmenkonzept Trauerqualifizierung)
URL:https://freiraum-evessen.de/event/weiterbildung-als-trauerbegleiterin-mit-christiane-widdrat/
LOCATION:freiraum in Evessen\, Papenberg 9\, Evessen\, Niedersachsen\, 38173\, Deutschland
ORGANIZER;CN="Christiane Widdrat":MAILTO:widdrat@glueckswerkstatt-am-markt.de
END:VEVENT
END:VCALENDAR